BEGIN:VCALENDAR
VERSION:2.0
PRODID:-//VERON / VRZA Afdeling Twente - ECPv6.15.20//NONSGML v1.0//EN
CALSCALE:GREGORIAN
METHOD:PUBLISH
X-ORIGINAL-URL:https://veronvrzatwente.nl
X-WR-CALDESC:Evenementen voor VERON / VRZA Afdeling Twente
REFRESH-INTERVAL;VALUE=DURATION:PT1H
X-Robots-Tag:noindex
X-PUBLISHED-TTL:PT1H
BEGIN:VTIMEZONE
TZID:Europe/Amsterdam
BEGIN:DAYLIGHT
TZOFFSETFROM:+0100
TZOFFSETTO:+0200
TZNAME:CEST
DTSTART:20190331T010000
END:DAYLIGHT
BEGIN:STANDARD
TZOFFSETFROM:+0200
TZOFFSETTO:+0100
TZNAME:CET
DTSTART:20191027T010000
END:STANDARD
BEGIN:DAYLIGHT
TZOFFSETFROM:+0100
TZOFFSETTO:+0200
TZNAME:CEST
DTSTART:20200329T010000
END:DAYLIGHT
BEGIN:STANDARD
TZOFFSETFROM:+0200
TZOFFSETTO:+0100
TZNAME:CET
DTSTART:20201025T010000
END:STANDARD
BEGIN:DAYLIGHT
TZOFFSETFROM:+0100
TZOFFSETTO:+0200
TZNAME:CEST
DTSTART:20210328T010000
END:DAYLIGHT
BEGIN:STANDARD
TZOFFSETFROM:+0200
TZOFFSETTO:+0100
TZNAME:CET
DTSTART:20211031T010000
END:STANDARD
END:VTIMEZONE
BEGIN:VEVENT
DTSTART;TZID=Europe/Amsterdam:20200330T200000
DTEND;TZID=Europe/Amsterdam:20200330T213000
DTSTAMP:20260422T102107
CREATED:20200329T142507Z
LAST-MODIFIED:20200329T143015Z
UID:2956-1585598400-1585603800@veronvrzatwente.nl
SUMMARY:Soldeerbout ronde
DESCRIPTION:Omdat ook de maandagavond (meet-en knutselavond) erg gemist wordt\, heeft 1 van de meetplaatsmedewerkers het idee geopperd om op deze avond een soldeerbout ronde te houden met als hoofdthema bouwprojecten en technische vragen. Deze ronde begint om 20.00 uur op PI3TWE en vindt zo lang plaats als er belangstelling is. \n 
URL:https://veronvrzatwente.nl/event/soldeerbout-ronde/
LOCATION:PI3TWE\, Eibergen\, Nederland
CATEGORIES:Afdelingsavonden
END:VEVENT
END:VCALENDAR