BEGIN:VCALENDAR
VERSION:2.0
PRODID:-//VERON / VRZA Afdeling Twente - ECPv6.15.20//NONSGML v1.0//EN
CALSCALE:GREGORIAN
METHOD:PUBLISH
X-ORIGINAL-URL:https://veronvrzatwente.nl
X-WR-CALDESC:Evenementen voor VERON / VRZA Afdeling Twente
REFRESH-INTERVAL;VALUE=DURATION:PT1H
X-Robots-Tag:noindex
X-PUBLISHED-TTL:PT1H
BEGIN:VTIMEZONE
TZID:Europe/Amsterdam
BEGIN:DAYLIGHT
TZOFFSETFROM:+0100
TZOFFSETTO:+0200
TZNAME:CEST
DTSTART:20200329T010000
END:DAYLIGHT
BEGIN:STANDARD
TZOFFSETFROM:+0200
TZOFFSETTO:+0100
TZNAME:CET
DTSTART:20201025T010000
END:STANDARD
BEGIN:DAYLIGHT
TZOFFSETFROM:+0100
TZOFFSETTO:+0200
TZNAME:CEST
DTSTART:20210328T010000
END:DAYLIGHT
BEGIN:STANDARD
TZOFFSETFROM:+0200
TZOFFSETTO:+0100
TZNAME:CET
DTSTART:20211031T010000
END:STANDARD
BEGIN:DAYLIGHT
TZOFFSETFROM:+0100
TZOFFSETTO:+0200
TZNAME:CEST
DTSTART:20220327T010000
END:DAYLIGHT
BEGIN:STANDARD
TZOFFSETFROM:+0200
TZOFFSETTO:+0100
TZNAME:CET
DTSTART:20221030T010000
END:STANDARD
END:VTIMEZONE
BEGIN:VEVENT
DTSTART;TZID=Europe/Amsterdam:20210421T200000
DTEND;TZID=Europe/Amsterdam:20210421T200000
DTSTAMP:20260421T154121
CREATED:20210314T200423Z
LAST-MODIFIED:20210329T124835Z
UID:3326-1619035200-1619035200@veronvrzatwente.nl
SUMMARY:Huishoudelijke vergadering VERON 2021
DESCRIPTION:Door persoonlijke omstandigheden van onze penningmeester lukt het niet om het financiële verslag voor eind maart af te hebben\, daarom zal de huishoudelijke vergadering worden verplaatst naar 21 april 2021. \nBeste afdelingsleden VERON Twente \nAls bestuur van de VERON afdeling Twente hadden we gehoopt de Huishoudelijke vergadering (HH) weer fysiek te kunnen organiseren\, maar helaas mag dat nog niet en omdat deze wel doorgang moet vinden is het beste alternatief een Online meeting. Bij deze nodig ik jullie van harte uit om op woensdag 21 april 2021 om 20:00 uur mee te doen. \n\n\n\n\n\n\n\n\nHoe gaat het in zijn werk. \nWe gaan Jitsi gebruiken als online vergaderzaal.\nIedereen die mee wil doen stuurt een E-mail naar a40 at veron.nl\nVoorwaarde is dat je VERON lid bent\nJe krijgt een E-mail terug op enig moment met daarin de link naar Jitsi en het wachtwoord.\nAls browser is Chrome het beste om te gebruiken. Kijk anders even op Internet.\nJe moet een microfoon en camera aangesloten hebben\, of inschakelen op de laptop. Verder wijst het zich bijna vanzelf maar je kunt eens Googelen op Jitsi en wat informatie lezen.\nAls voorbeeld deze link met info voor senioren : https://www.senior-live.nl/uploads/2020/11/Handleiding-Jitsi-van-Senior-Live-2020.pdf \nDe Agenda van de HH vergadering ziet er als volgt uit\, \n\n\n  \n\n\n\n\n\n\n\nOpeningenmededelingen. \n\n\nNotulen HH vergadering januari 2020. \nZijn op te vragen bij Willy\, PB1WB. \n\n\nJaarverslag en financieel verslag. Opvragen bij Willy\, PB1WB. A40 at veron.nl \n\n\nVerslagkascontrolecommissie. \n\n\nBenoemingnieuwekascontrolecommissie. \n\n\nBegroting2021. \n\n\nBestuursverkiezing\, Willy PB1WB is aftredend en herkiesbaar. \n\n\nVaststellen afvaardiging VR 2021 (24 april) en mandaat afvaardiging VR. \n\n\nStemming landelijke VR voorstellen. (Staan in Twentebeam) de \nbeschrijvingsbrief is ook op te vragen bij Willy. \n\n\nRondvraag. \n\n\nSluiting. \n\n\n\n\n  \n\n\n  \n\n\n\n\n\n\n\n\n\n\nDe stukken voor de agenda zijn bij de secretaris opvraagbaar en aan de mensen die deelnemen aan de HH vergadering zullen deze in de genoemde E-mail bijgesloten worden. Iedereen heeft dan de zelfde informatie en ik hoef in principe mijn beeldscherm dan niet te delen. We gaan er vanuit dat je stukken die behandeld worden voor de tijd inleest zodat er geen oponthoud is tijdens deze vergadering. \nIk zal de Jitsi meeting al wat eerder opzetten\, zo rond 7:45 uur zodat ieder wat tijd heeft om de boel in te stellen.\nJitsi is voor mij ook vrij nieuw maar uit ervaring met A40 bestuursvergaderingen is er altijd wat bij gebruik van andere tools. \nWe beginnen wel klokslag 20:00 uur en het aantal deelnemers met stemrecht ligt dan vast. \nTot de 21 april \n\n\n\n\n\n\n\n\nGerrit PA0GJV\nVoorzitter VERON Twente A40
URL:https://veronvrzatwente.nl/event/huishoudelijke-vergadering-veron-2/
CATEGORIES:Afdelingsavonden
END:VEVENT
END:VCALENDAR