BEGIN:VCALENDAR
VERSION:2.0
PRODID:-//VERON / VRZA Afdeling Twente - ECPv6.15.20//NONSGML v1.0//EN
CALSCALE:GREGORIAN
METHOD:PUBLISH
X-WR-CALNAME:VERON / VRZA Afdeling Twente
X-ORIGINAL-URL:https://veronvrzatwente.nl
X-WR-CALDESC:Evenementen voor VERON / VRZA Afdeling Twente
REFRESH-INTERVAL;VALUE=DURATION:PT1H
X-Robots-Tag:noindex
X-PUBLISHED-TTL:PT1H
BEGIN:VTIMEZONE
TZID:Europe/Amsterdam
BEGIN:DAYLIGHT
TZOFFSETFROM:+0100
TZOFFSETTO:+0200
TZNAME:CEST
DTSTART:20210328T010000
END:DAYLIGHT
BEGIN:STANDARD
TZOFFSETFROM:+0200
TZOFFSETTO:+0100
TZNAME:CET
DTSTART:20211031T010000
END:STANDARD
BEGIN:DAYLIGHT
TZOFFSETFROM:+0100
TZOFFSETTO:+0200
TZNAME:CEST
DTSTART:20220327T010000
END:DAYLIGHT
BEGIN:STANDARD
TZOFFSETFROM:+0200
TZOFFSETTO:+0100
TZNAME:CET
DTSTART:20221030T010000
END:STANDARD
BEGIN:DAYLIGHT
TZOFFSETFROM:+0100
TZOFFSETTO:+0200
TZNAME:CEST
DTSTART:20230326T010000
END:DAYLIGHT
BEGIN:STANDARD
TZOFFSETFROM:+0200
TZOFFSETTO:+0100
TZNAME:CET
DTSTART:20231029T010000
END:STANDARD
BEGIN:DAYLIGHT
TZOFFSETFROM:+0100
TZOFFSETTO:+0200
TZNAME:CEST
DTSTART:20240331T010000
END:DAYLIGHT
BEGIN:STANDARD
TZOFFSETFROM:+0200
TZOFFSETTO:+0100
TZNAME:CET
DTSTART:20241027T010000
END:STANDARD
BEGIN:DAYLIGHT
TZOFFSETFROM:+0100
TZOFFSETTO:+0200
TZNAME:CEST
DTSTART:20250330T010000
END:DAYLIGHT
BEGIN:STANDARD
TZOFFSETFROM:+0200
TZOFFSETTO:+0100
TZNAME:CET
DTSTART:20251026T010000
END:STANDARD
BEGIN:DAYLIGHT
TZOFFSETFROM:+0100
TZOFFSETTO:+0200
TZNAME:CEST
DTSTART:20260329T010000
END:DAYLIGHT
BEGIN:STANDARD
TZOFFSETFROM:+0200
TZOFFSETTO:+0100
TZNAME:CET
DTSTART:20261025T010000
END:STANDARD
BEGIN:DAYLIGHT
TZOFFSETFROM:+0100
TZOFFSETTO:+0200
TZNAME:CEST
DTSTART:20270328T010000
END:DAYLIGHT
BEGIN:STANDARD
TZOFFSETFROM:+0200
TZOFFSETTO:+0100
TZNAME:CET
DTSTART:20271031T010000
END:STANDARD
END:VTIMEZONE
BEGIN:VEVENT
DTSTART;VALUE=DATE:20221008
DTEND;VALUE=DATE:20221009
DTSTAMP:20260421T033101
CREATED:20220813T172532Z
LAST-MODIFIED:20220813T172532Z
UID:3800-1665187200-1665273599@veronvrzatwente.nl
SUMMARY:37ste radiomarkt Assen
DESCRIPTION:  \n\n \n\n\n\n\n\n\n\n\n  \nWe hebben  besloten om na alle Corona beperkingen\, onze 37ste Radiomarkt te houden en wel op 8 oktober 2022. We hopen met deze datum weer tegemoet te komen aan de wensen van zowel de bezoekers als de standhouders. \n  \nHet wordt gehouden voor zendamateurs\, luisterstations\, geïnteresseerden in de Radio- en ATV techniek maar ook voor hobby enthousiasten op Computer gebied\, Elektronica en zelfbouw. Aanvoer van nieuwe en gebruikte spullen zullen in ruime mate aanwezig in allerlei variëteit. We gaan ook weer stands inrichten waar demo wordt gegeven over de mogelijkheden met Radio\, Elektronica\, Mini PC’s\, opleidingen en dergelijke. We rekenen weer op een grote opkomst. Tevens zal er weer voldoende ruimte zijn voor onderling QSO onder genot van een hapje en drankje. \nDe samenwerking met Vitalisvlooienmarkten is gecontinueerd. Hierdoor kunnen we de toegangsprijs houden op € 3\,50. Dit geeft tevens toegang voor zowel onze Radiomarkt als ook de grootste Vlooienmarkt van het Noorden. Kinderen t/m 13 jaar gratis. De markt worden weer gehouden in de veilinghallen van Flowerdome in Eelde en wel aan de zijde van de ruime gratis parkeerplaatsen waar ook de gedeelde ingang met Vitalis is. De hal heeft een oppervlakte van 2500 – 3000 m2 is uitstekend verlicht / verwarmd en bevindt zich op ca. 12 km. ten noorden van Assen\, en is direct aan de A28 gelegen. \nOnze Radio markt is voor het publiek geopend van ~ 9.30 tot maximaal 15.00 H. Adres; Burgemeester J.G. Legroweg 80\, 9761 TD\, EELDE. \nStandruimte voor ca. 4 meter a € 30\,– en ook een halve kraam is mogelijk voor shack opruiming enz. Voor de standhouders is het mogelijk om al op de vrijdagmiddag op te bouwen. \nDe organisatie is in handen van de st. Radio Contest Groep Assen. Voor informatie en standhuur: \nEene de Weerd\, PA3CEG.tel:             0592-613557 \nE-mail: eenedeweerd@hetnet.nl  of  pa3ceg@hetnet.nl \n\n\n\n\n 
URL:https://veronvrzatwente.nl/event/37ste-radiomarkt-assen/
LOCATION:Burgemeester J.G. Legroweg 80\, 9761 TD\, EELDE\, Burgemeester J.G. Legroweg 80\, Eelde\, 9761 TD\, Nederland
CATEGORIES:Extern evenement
END:VEVENT
BEGIN:VEVENT
DTSTART;TZID=Europe/Amsterdam:20260530T090000
DTEND;TZID=Europe/Amsterdam:20260530T150000
DTSTAMP:20260421T033101
CREATED:20260223T130532Z
LAST-MODIFIED:20260223T130753Z
UID:4729-1780131600-1780153200@veronvrzatwente.nl
SUMMARY:Friese radiomarkt
DESCRIPTION:Jaarlijks organiseert de afdeling Friese Wouden A63 een grote radio- en elektronicamarkt onder de naam “Friese Radio Markt” Deze markt vindt plaats in en rondom dorpshuis “De Buorskip” in het prachtige bosrijke Beetsterzwaag (Fr.)  Op de markt kunt u terecht voor juist dat onderdeel wat u al lang zocht\, en soms kun je iets aantreffen wat je ook heel goed kunt gebruiken bij je hobby of in je hobbykamer. Ruim 100 standhouders\, zowel particulieren als handelaren\, prijzen binnen en buiten hun goederen aan. Elk jaar verwachten we weer zo’n 1500 bezoekers. Parkeren kan bijna altijd op korte loopafstand. Er is een speciaal parkeerterrein voor mindervaliden. \nDe gezelligheid en de gemoedelijke sfeer op de FRM wordt alom geroemd. En niet te vergeten het onderlinge contact en die zendamateur ontmoeten waar je regelmatig een verbinding mee hebt. Dit alles onder het genot van een kop koffie\, iets fris en misschien een hapje uit de keuken van dorpshuis “De Buorskip”
URL:https://veronvrzatwente.nl/event/friese-radiomarkt/
LOCATION:Beetsterzwaag
CATEGORIES:Extern evenement
END:VEVENT
END:VCALENDAR